BEGIN:VCALENDAR
VERSION:2.0
PRODID:-//Venza® - ECPv6.15.17//NONSGML v1.0//EN
CALSCALE:GREGORIAN
METHOD:PUBLISH
X-ORIGINAL-URL:https://www.venza.io
X-WR-CALDESC:Events for Venza®
REFRESH-INTERVAL;VALUE=DURATION:PT1H
X-Robots-Tag:noindex
X-PUBLISHED-TTL:PT1H
BEGIN:VTIMEZONE
TZID:America/New_York
BEGIN:DAYLIGHT
TZOFFSETFROM:-0500
TZOFFSETTO:-0400
TZNAME:EDT
DTSTART:20220313T070000
END:DAYLIGHT
BEGIN:STANDARD
TZOFFSETFROM:-0400
TZOFFSETTO:-0500
TZNAME:EST
DTSTART:20221106T060000
END:STANDARD
BEGIN:DAYLIGHT
TZOFFSETFROM:-0500
TZOFFSETTO:-0400
TZNAME:EDT
DTSTART:20230312T070000
END:DAYLIGHT
BEGIN:STANDARD
TZOFFSETFROM:-0400
TZOFFSETTO:-0500
TZNAME:EST
DTSTART:20231105T060000
END:STANDARD
BEGIN:DAYLIGHT
TZOFFSETFROM:-0500
TZOFFSETTO:-0400
TZNAME:EDT
DTSTART:20240310T070000
END:DAYLIGHT
BEGIN:STANDARD
TZOFFSETFROM:-0400
TZOFFSETTO:-0500
TZNAME:EST
DTSTART:20241103T060000
END:STANDARD
END:VTIMEZONE
BEGIN:VEVENT
DTSTART;TZID=America/New_York:20230216T130000
DTEND;TZID=America/New_York:20230216T173000
DTSTAMP:20260422T060508
CREATED:20230215T013358Z
LAST-MODIFIED:20230215T013358Z
UID:7253-1676552400-1676568600@www.venza.io
SUMMARY:Venza Attending Georgia Hotel Conference powered by GHLA & AHLA
DESCRIPTION:You’re invited to the 2023 Georgia Hotel Conference in Atlanta! Join fellow hoteliers from across Georgia for an afternoon of networking and learning about the very latest policy issues impacting your hotel. \nYou’ll hear from guest speakers and longtime industry leaders who will share updates on: \n\nKey policy issues impacting Georgia hotels\nWorkforce challenges and solutions\nBest practices for revenue generation\nKey national & local industry initiatives\n\nA special networking reception with complimentary drinks and appetizers will follow. Mark your calendar and invite all your hotel colleagues to this special afternoon event. \n\nDATE & TIME\nFebruary 16\, 2023 – 1pm-5:30pm \n\n\nLOCATION\nRitz Carlton Atlanta\n181 Peachtree St. NE\nAtlanta\, GA 30303 \n\n 
URL:https://www.venza.io/event/georgia-hotel-conference/
CATEGORIES:Events
END:VEVENT
END:VCALENDAR