BEGIN:VCALENDAR
VERSION:2.0
PRODID:-//Venza® - ECPv6.15.17//NONSGML v1.0//EN
CALSCALE:GREGORIAN
METHOD:PUBLISH
X-WR-CALNAME:Venza®
X-ORIGINAL-URL:https://www.venza.io
X-WR-CALDESC:Events for Venza®
REFRESH-INTERVAL;VALUE=DURATION:PT1H
X-Robots-Tag:noindex
X-PUBLISHED-TTL:PT1H
BEGIN:VTIMEZONE
TZID:Europe/Amsterdam
BEGIN:DAYLIGHT
TZOFFSETFROM:+0100
TZOFFSETTO:+0200
TZNAME:CEST
DTSTART:20170326T010000
END:DAYLIGHT
BEGIN:STANDARD
TZOFFSETFROM:+0200
TZOFFSETTO:+0100
TZNAME:CET
DTSTART:20171029T010000
END:STANDARD
BEGIN:DAYLIGHT
TZOFFSETFROM:+0100
TZOFFSETTO:+0200
TZNAME:CEST
DTSTART:20180325T010000
END:DAYLIGHT
BEGIN:STANDARD
TZOFFSETFROM:+0200
TZOFFSETTO:+0100
TZNAME:CET
DTSTART:20181028T010000
END:STANDARD
BEGIN:DAYLIGHT
TZOFFSETFROM:+0100
TZOFFSETTO:+0200
TZNAME:CEST
DTSTART:20190331T010000
END:DAYLIGHT
BEGIN:STANDARD
TZOFFSETFROM:+0200
TZOFFSETTO:+0100
TZNAME:CET
DTSTART:20191027T010000
END:STANDARD
END:VTIMEZONE
BEGIN:VTIMEZONE
TZID:UTC
BEGIN:STANDARD
TZOFFSETFROM:+0000
TZOFFSETTO:+0000
TZNAME:UTC
DTSTART:20160101T000000
END:STANDARD
END:VTIMEZONE
BEGIN:VEVENT
DTSTART;TZID=Europe/Amsterdam:20180418T100000
DTEND;TZID=Europe/Amsterdam:20180418T110000
DTSTAMP:20260424T055707
CREATED:20180320T010608Z
LAST-MODIFIED:20180320T010608Z
UID:2498-1524045600-1524049200@www.venza.io
SUMMARY:GDPR Essentials™ Webinar - Europe
DESCRIPTION:How does GDPR affect me?  \nWith the impending GDPR going into effect on May 24\, 2018\, you can join Daniel Johnson\, Partner/Co-Founder of Venza to find out how this new regulation will impact the way your organization will do business and handle the PII for European Citizens. \nDESCRIPTION: The coming enforcement of Europe’s data protection law\, the GDPR\, demands that both hoteliers and their information system partners take a hard look at how guest data is processed. Roles determine responsibilities. Responsibilities convey obligations. Failures to meet obligations carry consequences. \nUse the link below to register for this webinar.
URL:https://www.venza.io/event/gdpr-essentials-webinar-europe/
END:VEVENT
BEGIN:VEVENT
DTSTART;TZID=UTC:20180417T100000
DTEND;TZID=UTC:20180417T110000
DTSTAMP:20260424T055707
CREATED:20180320T010402Z
LAST-MODIFIED:20180320T010402Z
UID:2495-1523959200-1523962800@www.venza.io
SUMMARY:GDPR Essentials™ Webinar
DESCRIPTION:How does GDPR affect me?  \nWith the impending GDPR going into effect on May 24\, 2018\, you can join Daniel Johnson\, Partner/Co-Founder of Venza to find out how this new regulation will impact the way your organization will do business and handle the PII for European Citizens. \nDESCRIPTION: The coming enforcement of Europe’s data protection law\, the GDPR\, demands that both hoteliers and their information system partners take a hard look at how guest data is processed. Roles determine responsibilities. Responsibilities convey obligations. Failures to meet obligations carry consequences. \nUse the link below to register for this webinar.
URL:https://www.venza.io/event/gdpr-essentials-webinar-3/
END:VEVENT
BEGIN:VEVENT
DTSTART;TZID=Europe/Amsterdam:20180417T100000
DTEND;TZID=Europe/Amsterdam:20180417T110000
DTSTAMP:20260424T055707
CREATED:20180320T010241Z
LAST-MODIFIED:20180320T010241Z
UID:2493-1523959200-1523962800@www.venza.io
SUMMARY:GDPR Essentials™ Webinar - Europe
DESCRIPTION:How does GDPR affect me?  \nWith the impending GDPR going into effect on May 24\, 2018\, you can join Daniel Johnson\, Partner/Co-Founder of Venza to find out how this new regulation will impact the way your organization will do business and handle the PII for European Citizens. \nDESCRIPTION: The coming enforcement of Europe’s data protection law\, the GDPR\, demands that both hoteliers and their information system partners take a hard look at how guest data is processed. Roles determine responsibilities. Responsibilities convey obligations. Failures to meet obligations carry consequences. \nUse the link below to register for this webinar.
URL:https://www.venza.io/event/gdpr-essentials-european-webinar/
END:VEVENT
BEGIN:VEVENT
DTSTART;TZID=UTC:20180411T000000
DTEND;TZID=UTC:20180413T000000
DTSTAMP:20260424T055707
CREATED:20170503T224703Z
LAST-MODIFIED:20170503T224703Z
UID:1291-1523404800-1523577600@www.venza.io
SUMMARY:Venza Key Note Speaker\, Sponsoring & Exhibiting at HITEC Amsterdam 2018
DESCRIPTION:HITEC AMSTERDAM\nHFTP’s European Extension to the World’s Largest and Oldest Hospitality Technology Exposition and Conference Brand.\nCome by and see Venza at booth #131 \nDaniel Johnson\, Partner/Co-Founder will be on the GDPR Panel discussion at 10:30 am CET on the 13th. Venza will be sponsoring the “Pitching the Value of IT” Session from 2:30 – 3:30 CET on Thursday the 12th. \nDaniel will also be a keynote speaker at the OpenTravel Convention (co-located inside of HITEC Amsterdam Convention) on the 12th at 2:00 pm CET. Daniel will be speaking GDPR “What to expect and how to respond”. \nApril 11–13\, 2018\nRAI Amsterdam Convention Centre\nAmsterdam\, The Netherlands\n#HITECams
URL:https://www.venza.io/event/hitec-amsterdam-2018/
END:VEVENT
BEGIN:VEVENT
DTSTART;TZID=Europe/Amsterdam:20180404T100000
DTEND;TZID=Europe/Amsterdam:20180404T110000
DTSTAMP:20260424T055707
CREATED:20180320T010010Z
LAST-MODIFIED:20180320T010010Z
UID:2491-1522836000-1522839600@www.venza.io
SUMMARY:GDPR Essentials™ Webinar - Europe
DESCRIPTION:How does GDPR affect me?  \nWith the impending GDPR going into effect on May 24\, 2018\, you can join Daniel Johnson\, Partner/Co-Founder of Venza to find out how this new regulation will impact the way your organization will do business and handle the PII for European Citizens. \nDESCRIPTION: The coming enforcement of Europe’s data protection law\, the GDPR\, demands that both hoteliers and their information system partners take a hard look at how guest data is processed. Roles determine responsibilities. Responsibilities convey obligations. Failures to meet obligations carry consequences. \nUse the link below to register for this webinar.
URL:https://www.venza.io/event/gdpr-essentials-webinar-2/
END:VEVENT
BEGIN:VEVENT
DTSTART;TZID=UTC:20180404T100000
DTEND;TZID=UTC:20180404T110000
DTSTAMP:20260424T055707
CREATED:20180320T005102Z
LAST-MODIFIED:20180320T005102Z
UID:2485-1522836000-1522839600@www.venza.io
SUMMARY:GDPR Essentials™ Webinar
DESCRIPTION:How does GDPR affect me?  \nWith the impending GDPR going into effect on May 24\, 2018 you can join Daniel Johnson\, Partner/Co-Founder of Venza to find out how this new regulation will impact the way your organization will do business and handle the PII for European Citizens. \nDESCRIPTION: The coming enforcement of Europe’s data protection law\, the GDPR\, demands that both hoteliers and their information system partners take a hard look at how guest data is processed. Roles determine responsibilities. Responsibilities convey obligations. Failures to meet obligations carry consequences. \nClick the link below to register on Webinar Ninja. \n 
URL:https://www.venza.io/event/gdpr-essentials-webinar/
END:VEVENT
BEGIN:VEVENT
DTSTART;TZID=UTC:20180327T080000
DTEND;TZID=UTC:20180330T170000
DTSTAMP:20260424T055707
CREATED:20180319T232458Z
LAST-MODIFIED:20180319T232458Z
UID:2483-1522137600-1522429200@www.venza.io
SUMMARY:Venza Attending AAHOA 2018
DESCRIPTION:2018 Asian Americans Hotel Owners Association Convention and Tradeshow \nThe 2018 AAHOA Annual Convention and Trade Show is poised to be the best opportunity in the new year for hoteliers and hospitality industry professionals to maximize their business potential. It is the largest gathering of hotel owners in the country. Last year\, convention set a new record: the four-day event drew nearly 7\,000 attendees and vendors. We expect this year to be even more successful. \nAAHOA\, founded in 1989\, is the largest hotel owners’ association in the world\, with more than 16\,500 small business owner-members. AAHOA members own almost one in every two hotels in the United States. If your business is the hotel business\, this is the place to be. \nScott Fisher will be attending this year\, if you would like to meet up drop him a line at Scott.Fisher@VenzaGroup.com \n  \nABOUT AAHOA \nAAHOA is the largest hotel owners’ association in the world with more than 16\,000 members\, owning nearly one of every two hotels in the United States. With billions of dollars in property assets and hundreds of thousands of employees\, AAHOA members are core economic contributors in virtually every community across the nation. AAHOA is a proud defender of free enterprise and the foremost current-day example of realizing the American Dream. \nAAHOA’s mission is to advance and protect the business interests of hotel owners through advocacy\, industry leadership\, professional development\, member benefits\, and community engagement.
URL:https://www.venza.io/event/venza-attending-aahoa-2018/
END:VEVENT
BEGIN:VEVENT
DTSTART;TZID=UTC:20180321T073000
DTEND;TZID=UTC:20180323T200000
DTSTAMP:20260424T055707
CREATED:20180122T233328Z
LAST-MODIFIED:20180122T233328Z
UID:1878-1521617400-1521835200@www.venza.io
SUMMARY:Venza Attending Hunter Hotel Conference
DESCRIPTION:The Hunter Hotel Investment Conference has long been recognized as one of the nation’s top hotel conferences. Our attendees are key hotel owners and leading industry influencers and come from a broad range of organizations. From expert speakers to networking opportunities\, you’ll walk away with new insights into your operations. \nHope to see you at this year’s conference schedule a meeting with Careen Boers\, Senior Sales Executive.
URL:https://www.venza.io/event/venza-attending-hunter-hotel-conference/
END:VEVENT
BEGIN:VEVENT
DTSTART;TZID=UTC:20180313T110000
DTEND;TZID=UTC:20180313T130000
DTSTAMP:20260424T055707
CREATED:20180301T232403Z
LAST-MODIFIED:20180301T232403Z
UID:2153-1520938800-1520946000@www.venza.io
SUMMARY:Venza Bring The Spring BBQ
DESCRIPTION:BECAUSE SPRING WON’T GET HERE FAST ENOUGH \nHelp Venza Bring The Spring with a BBQ in front of our offices.\nGRILLED FOOD • BEVERAGES • ICECREAM • CORNHOLE \n10886 Crabapple Rd #100\, Roswell\, GA 30075 \nClick the link below and RSVP
URL:https://www.venza.io/event/venza-bring-spring-bbq/
END:VEVENT
BEGIN:VEVENT
DTSTART;TZID=UTC:20180312T080000
DTEND;TZID=UTC:20180314T170000
DTSTAMP:20260424T055707
CREATED:20180316T003619Z
LAST-MODIFIED:20180316T003619Z
UID:2401-1520841600-1521046800@www.venza.io
SUMMARY:HT-Next 2018
DESCRIPTION:Hospitality Technology’s Hotel Technology Forum and HTNG’s North American Conference — HT-NEXT \nHT-NEXT has quickly become the must-attend educational and networking experience for hospitality technology professionals and solution providers! \nIn a program that combines two leading industry events — Hospitality Technology’s Hotel Technology Forum and HTNG’s North American Conference —\nHT-NEXT is where the industry meets. \n\n\n\n\n\n\n\n\n\nOnline registration for HT-NEXT 2018 is now closed and no longer being accepted. If you would like to register for this event\, registration will open on Sunday March 11th at 3pm at the Grand Hall Foyer of the Manchester Grand Hyatt. The on site registration fee for hoteliers ‘ 3 day pass is $695 and for member vendors’ 2 day pass is $1995 . If you have any questions regarding your registration\, please contact Noreen Walsh at nwalsh@ensembleiq.com or Ellie Harper at ellie.harper@american-tradeshow.com.
URL:https://www.venza.io/event/ht-next-2018/
END:VEVENT
BEGIN:VEVENT
DTSTART;TZID=UTC:20180307T100000
DTEND;TZID=UTC:20180311T180000
DTSTAMP:20260424T055707
CREATED:20180122T232653Z
LAST-MODIFIED:20180122T232653Z
UID:1875-1520416800-1520791200@www.venza.io
SUMMARY:Venza Attending ITB Berlin
DESCRIPTION:Welcome to the World’s Leading Travel Trade Show\nExperience the whole world of travel at ITB Berlin – all in one location: Countries\, cities and regions\, tour operators\, online booking portals and hotels\, and many other service providers from over 180 countries present their products and services. \nIf you are attending schedule a meeting with Venza’s Wietse Bijzeit\, Business Development Director Europe.
URL:https://www.venza.io/event/venza-attending-itb-berlin/
CATEGORIES:Events
END:VEVENT
BEGIN:VEVENT
DTSTART;TZID=UTC:20180228T074500
DTEND;TZID=UTC:20180228T180000
DTSTAMP:20260424T055707
CREATED:20180221T203750Z
LAST-MODIFIED:20180221T203750Z
UID:1980-1519803900-1519840800@www.venza.io
SUMMARY:Venza Attending Cyber Security Summit: Atlanta
DESCRIPTION:The third annual Cyber Security Summit: Atlanta connects C-Suite & Senior Executives responsible for protecting their companies’ critical infrastructures with innovative solution providers and renowned information security experts. Admission is $350 each\, giving you access to all Interactive Panels\, Discussions\, Catered Breakfast\, Lunch & Cocktail Reception. \nIf you are going maybe you can meet up with David Christiansen at this year’s Cyber Security Summit in Atlanta. \nWednesday\, February 28\, 2018   |   7:45 AM to 6:00P M   |   The Whitley\, Atlanta Buckhead (Formerly The Ritz-Carlton)
URL:https://www.venza.io/event/venza-attending-cyber-security-summit-atlanta/
CATEGORIES:Events
END:VEVENT
BEGIN:VEVENT
DTSTART;TZID=UTC:20180227T080000
DTEND;TZID=UTC:20180301T170000
DTSTAMP:20260424T055707
CREATED:20180122T231524Z
LAST-MODIFIED:20180122T231524Z
UID:1870-1519718400-1519923600@www.venza.io
SUMMARY:Venza Attending the Executive Vendor Summit hosted by Hospitality Upgrade Magazine
DESCRIPTION:Hospitality Upgrade’s Executive Vendor Summit presents thoughtful discussion topics\, quality speakers\, and a relaxed networking environment. Whether informally comparing notes during the Golf Scramble\, or debating with peers during a session\, the interactive environment has encouraged countless vendors to walk away with partnerships and occasionally a merger or acquisition.
URL:https://www.venza.io/event/venza-attending-executive-vendor-summit-hosted-hospitality-upgrade-magazine/
END:VEVENT
BEGIN:VEVENT
DTSTART;TZID=UTC:20180222T180000
DTEND;TZID=UTC:20180222T200000
DTSTAMP:20260424T055707
CREATED:20180213T023158Z
LAST-MODIFIED:20180213T023158Z
UID:1955-1519322400-1519329600@www.venza.io
SUMMARY:Join Us at HFTP Greater Louisville Chapter Interest Meeting
DESCRIPTION:Hospitality Financial and Technology Professionals (HFTP) is hosting a\nGreater Louisville Chapter Interest Meeting. HFTP invites you to be a part of this event to meet HFTP members and industry professionals. \nFebruary 22\, 2018\n6:00 p.m. – 7:00 p.m. – Networking and Reception\n7:00 p.m. – 8:00 p.m. – HFTP Educational Session \nLocation: Galt House Hotel | Willow Room\n140 North Fourth St. | Louisville\, Kentucky 40202 \nRSVP for the Greater Louisville Chapter Interest Meeting:\nhttp://bit.ly/HFTPLouisville or email chapteradmin@hftp.org\nMeeting Location Information for Galt House Hotel\nDiscounted parking rate of $10.00 for all meeting attendees.\nParking vouchers will be provided during the event.\nAttendees\, please take a parking ticket at the garage and ask for a voucher during the meeting.\nPlease present the voucher to parking attendent when leaving the garage.
URL:https://www.venza.io/event/join-us-hftp-greater-louisville-chapter-interest-meeting/
END:VEVENT
BEGIN:VEVENT
DTSTART;TZID=UTC:20180222T110000
DTEND;TZID=UTC:20180222T120000
DTSTAMP:20260424T055707
CREATED:20180208T014506Z
LAST-MODIFIED:20180208T014506Z
UID:1915-1519297200-1519300800@www.venza.io
SUMMARY:Venza Presenting at HFTP Webinar: How Does GDPR Affect Me?
DESCRIPTION:The coming enforcement of Europe’s data protection law — the General Data Protection Regulation (GDPR) — demands that both hoteliers and their information system partners take a hard look at how guest data is processed. This session explores the impact GDPR has on an organization\, defines various roles and responsibilities\, and reveals how you can meet your obligations to successfully achieve GDPR compliance. This event is FREE for HFTP members and $50 for nonmembers. \nTo register for an archived HFTP webinar\, click on the webinar name and you will be taken to the HFTP e-web page to login to your HFTP account or create a new one. Once registered\, you will receive a webinar confirmation email containing a link to your HFTP Classroom where the webinar can be accessed. \nContact the HFTP Meetings and Event Department for more information:\nNick Cukjati by phone +1 (512) 220-6445. See web link below.
URL:https://www.venza.io/event/venza-presenting-hftp-webinar-gdpr-affect/
END:VEVENT
BEGIN:VEVENT
DTSTART;TZID=UTC:20180122T080000
DTEND;TZID=UTC:20180124T170000
DTSTAMP:20260424T055707
CREATED:20180122T200610Z
LAST-MODIFIED:20180122T200610Z
UID:1867-1516608000-1516813200@www.venza.io
SUMMARY:Venza attending ALIS\, The Americas Lodging Investment Summit
DESCRIPTION:ALIS is the leading and largest hotel investment conference in the world. ALIS in January 2017 had nearly 3\,000 registered delegates. ALIS features numerous networking opportunities and an extensive array of seminars and panels by hotel industry experts\, who discuss important trends and identify new opportunities for the year ahead.
URL:https://www.venza.io/event/venza-attending-alis-americas-lodging-investment-summit/
END:VEVENT
BEGIN:VEVENT
DTSTART;VALUE=DATE:20171203
DTEND;VALUE=DATE:20171206
DTSTAMP:20260424T055707
CREATED:20161207T203311Z
LAST-MODIFIED:20161207T203311Z
UID:962-1512259200-1512518399@www.venza.io
SUMMARY:BITAC® Owners Event 2017
DESCRIPTION:BITAC® Owners Event attracts hotel company owners\, CEOs and presidents who are actively working on projects\, and their key executive (i.e.\, CFO). They are seeking companies that fit the scope of their projects with service companies that are in line with their growth strategies\, which include\, but are not limited to: franchise brands\, financial\, brokers\, design firms\, construction companies\, emerging technology\, human resources\, consultants\, legal services\, marketing services\, insurance\, third party management services\, hotel products that can enhance the impact of the guest experience\, and much more.
URL:https://www.venza.io/event/bitac-owners-event-2017/
END:VEVENT
BEGIN:VEVENT
DTSTART;TZID=UTC:20171027T130000
DTEND;TZID=UTC:20171027T135000
DTSTAMP:20260424T055707
CREATED:20170815T180929Z
LAST-MODIFIED:20170815T180929Z
UID:1358-1509109200-1509112200@www.venza.io
SUMMARY:212 Days to GDPR Enforcement: What you need to know and do
DESCRIPTION:Although you may not be familiar with phrases such as Privacy by Design\, Data Protection Impact Assessment (DPA)\, Data Protection Officer (DPO)\, and Binding Corporate Rule (BCR) for Processors now\, they (and many others) will soon become part of your day-to-day vocabulary. These phrases originate from the EU General Data Protection Regulation (GDPR)\, a framework legislated by all EU member states that will be enforced as of May 25\, 2018. Unlike previous frameworks\, GDPR includes companies outside the EU who either have customers that are EU citizens or who monitor the “online identifiers” of EU “data subjects”. This presentation\, facilitated by Venza Partner & EU-office Managing Director\, is a do-not-miss GDPR primer for hospitality financial and technology professionals.
URL:https://www.venza.io/event/gdpr-workshop/
END:VEVENT
BEGIN:VEVENT
DTSTART;VALUE=DATE:20171025
DTEND;VALUE=DATE:20171029
DTSTAMP:20260424T055707
CREATED:20160902T211311Z
LAST-MODIFIED:20160902T211311Z
UID:915-1508889600-1509235199@www.venza.io
SUMMARY:Venza Attending HFTP 2017 Annual Convention
DESCRIPTION:By now you already know that at the HFTP Annual Meeting you can discover peer-tested ideas\, learn to innovate\, and make valuable connections with other industry professionals and suppliers to successfully tackle the challenges and opportunities facing you and your organization. Join Venza® as we sponsor this year’s event in order to help drive awareness around PCI Compliance\, PII and Information Security in general.
URL:https://www.venza.io/event/hftp-2017-annual-convention/
CATEGORIES:Events
END:VEVENT
BEGIN:VEVENT
DTSTART;TZID=UTC:20170928T000000
DTEND;TZID=UTC:20170928T000000
DTSTAMP:20260424T055707
CREATED:20170815T180824Z
LAST-MODIFIED:20170815T180824Z
UID:1354-1506556800-1506556800@www.venza.io
SUMMARY:"Data Security: It's Not Only About Systems" workshop
DESCRIPTION:
URL:https://www.venza.io/event/data-security-not-systems-workshop/
END:VEVENT
BEGIN:VEVENT
DTSTART;TZID=UTC:20170925T080000
DTEND;TZID=UTC:20170929T170000
DTSTAMP:20260424T055707
CREATED:20170815T180622Z
LAST-MODIFIED:20170815T180622Z
UID:1352-1506326400-1506704400@www.venza.io
SUMMARY:CyberSecurity Week The Hague Security Delta (HSD) members/attendees
DESCRIPTION:
URL:https://www.venza.io/event/cybersecurity-week-hague-security-delta-hsd-membersattendees/
END:VEVENT
BEGIN:VEVENT
DTSTART;TZID=UTC:20170923T180000
DTEND;TZID=UTC:20170923T210000
DTSTAMP:20260424T055707
CREATED:20170424T193237Z
LAST-MODIFIED:20170424T193237Z
UID:1118-1506189600-1506200400@www.venza.io
SUMMARY:Venza 10th Annual Charity Cruise
DESCRIPTION:The Venza 10th Annual Charity event will be a Casino Cruise on Lake Lanier with\nproceeds benefiting Hope For Justice\, a global non-profit organization which aims to end human trafficking and modern-day slavery. The boat will depart on Saturday\, September 23 from Harbor Landing on a Fantasy Houseboat at 6:00 pm with food\, cash bar\, a live band\, and casino gaming with prizes. For more information please contact Marineli Dal Cerro at 770 685 6514 or marineli.dalcerro@venzagroup.com. \nEvent Sponsors:
URL:https://www.venza.io/event/venza-10th-annual-charity-partnership-cruise/
CATEGORIES:Events
END:VEVENT
BEGIN:VEVENT
DTSTART;TZID=UTC:20170917T080000
DTEND;TZID=UTC:20170919T170000
DTSTAMP:20260424T055707
CREATED:20170302T004520Z
LAST-MODIFIED:20170302T004520Z
UID:986-1505635200-1505840400@www.venza.io
SUMMARY:FSTEC  2017
DESCRIPTION:FSTEC continues to be the food service industry’s most compelling technology conference\, offering insight into security\, software development and marketing while celebrating the latest and most innovative solutions in technology to date. This is the only event of its kind where food and tech connect to help you build better\, smarter businesses.
URL:https://www.venza.io/event/fstec-2017/
END:VEVENT
BEGIN:VEVENT
DTSTART;TZID=UTC:20170831T120000
DTEND;TZID=UTC:20170831T120000
DTSTAMP:20260424T055707
CREATED:20170815T180135Z
LAST-MODIFIED:20170815T180135Z
UID:1346-1504180800-1504180800@www.venza.io
SUMMARY:GDPR: Now's the Time for a Data Strategy Webinar
DESCRIPTION:Whether you consider your organization a high-volume processor or controller of sensitive information for European data subjects\, you’ll need to be GDPR compliant. Countries beyond the EU are trending toward the adoption of similar laws. \nBecause the mapping of data is required\, it’s the ideal time to craft a data strategy to better position your property(ies) in the minds of today’s guests who demand that hoteliers respect their privacy and deliver security. Regardless of where you stand on the subject of “compliance”\, this webinar from Venza discusses how GDPR presents an opportunity to define your data strategy. \nGDPR may seem like a lemon\, but there’s lemonade to be made! We hope that you will join us for this informative session.
URL:https://www.venza.io/event/gdpr-consent-management-webinar/
END:VEVENT
BEGIN:VEVENT
DTSTART;VALUE=DATE:20170626
DTEND;VALUE=DATE:20170630
DTSTAMP:20260424T055707
CREATED:20161207T202601Z
LAST-MODIFIED:20161207T202601Z
UID:959-1498435200-1498780799@www.venza.io
SUMMARY:HITEC Toronto 2017
DESCRIPTION:WORLD’S LARGEST HOSPITALITY TECHNOLOGY SHOW\n\nHITEC brings the brightest minds & hottest technology from around the world to one place\n 
URL:https://www.venza.io/event/hitec-toronto-2017/
END:VEVENT
BEGIN:VEVENT
DTSTART;TZID=UTC:20170621T120000
DTEND;TZID=UTC:20170621T130000
DTSTAMP:20260424T055707
CREATED:20170518T182254Z
LAST-MODIFIED:20170518T182254Z
UID:1294-1498046400-1498050000@www.venza.io
SUMMARY:GDPR - What is it? What Does it mean?
DESCRIPTION:This Venza webinar is to inform your corporate teams as well as your properties about the General Data Protection Regulation (GDPR)\, a framework legislated by all EU member states that will be enforced as of May 2018. This regulation will include companies whose customers are EU citizens even if the company itself is not in the EU. \nhttps://attendee.gotowebinar.com/register/2566187954191368707
URL:https://www.venza.io/event/gdpr-what-is-it-what-does-it-mean/
END:VEVENT
BEGIN:VEVENT
DTSTART;TZID=UTC:20170515T080000
DTEND;TZID=UTC:20170517T170000
DTSTAMP:20260424T055707
CREATED:20170125T203633Z
LAST-MODIFIED:20170125T203633Z
UID:983-1494835200-1495040400@www.venza.io
SUMMARY:BITAC® Independent 2017
DESCRIPTION:The 2017 InnDependent Lodging Executive Summit will be the best version yet. Be a part of what many are calling the hottest trend in the lodging industry. This three day idea exchange will include educational sessions focused on the needs of independent hoteliers and offer plenty of time to network with hoteliers and vendors in the unique and relaxed atmosphere. \nCultivate new relationships and \nstrengthening existing ones while \nenjoying great food and \nbeverages\, all included in \nyour registration. \n  \nBy BITAC \ninfo@bitac.net \n 
URL:https://www.venza.io/event/bitac-independent-2017-2/
END:VEVENT
BEGIN:VEVENT
DTSTART;VALUE=DATE:20170411
DTEND;VALUE=DATE:20170415
DTSTAMP:20260424T055707
CREATED:20160902T214615Z
LAST-MODIFIED:20160902T214615Z
UID:922-1491868800-1492214399@www.venza.io
SUMMARY:2017 AAHOA Convention
DESCRIPTION:
URL:https://www.venza.io/event/2017-aahoa-convention/
CATEGORIES:Events
END:VEVENT
BEGIN:VEVENT
DTSTART;VALUE=DATE:20170410
DTEND;VALUE=DATE:20170414
DTSTAMP:20260424T055707
CREATED:20161017T163921Z
LAST-MODIFIED:20161017T163921Z
UID:941-1491782400-1492127999@www.venza.io
SUMMARY:HT-Next 2017
DESCRIPTION:HT-NEXT unites two industry\nleading events — Hospitality\nTechnology’s Hotel Technology\nForum and HTNG North American\nConference — into one immersive\nnetworking and educational event\nfor hotel executives and solution\nproviders.
URL:https://www.venza.io/event/ht-next-2017/
CATEGORIES:Events
END:VEVENT
BEGIN:VEVENT
DTSTART;VALUE=DATE:20170328
DTEND;VALUE=DATE:20170331
DTSTAMP:20260424T055707
CREATED:20161207T201530Z
LAST-MODIFIED:20161207T201530Z
UID:956-1490659200-1490918399@www.venza.io
SUMMARY:HITEC Amsterdam 2017
DESCRIPTION:Building on the expertise of planning and producing the world’s largest hospitality technology show\, Hospitality Financial and Technology Professionals (HFTP®) has announced plans for HITEC Amsterdam in Spring 2017. \nThe HITEC Amsterdam exposition\, with 55 booths\, sold out in three days. A waiting list is available for companies who would still like to exhibit or sponsor. The preliminary program for the first European show will include an exhibit hall\, a keynote presentation  in the usual tradition of HITEC and 16+ educational sessions about trending hospitality technology topics. As part of the partnership\, HSMAI Region Europe will co-locate its Revenue Optimization Conference (ROC) with the premiere HITEC Amsterdam. \nThe HITEC Amsterdam Advisory Council\, made up of hospitality industry executives from eight European countries\, will help plan a cutting-edge education program for the new hospitality technology conference and exposition\, based on the highly-successful HITEC.
URL:https://www.venza.io/event/hitec-amsterdam-2017/
END:VEVENT
END:VCALENDAR