BEGIN:VCALENDAR
VERSION:2.0
PRODID:-//Venza® - ECPv6.15.17//NONSGML v1.0//EN
CALSCALE:GREGORIAN
METHOD:PUBLISH
X-WR-CALNAME:Venza®
X-ORIGINAL-URL:https://www.venza.io
X-WR-CALDESC:Events for Venza®
REFRESH-INTERVAL;VALUE=DURATION:PT1H
X-Robots-Tag:noindex
X-PUBLISHED-TTL:PT1H
BEGIN:VTIMEZONE
TZID:UTC
BEGIN:STANDARD
TZOFFSETFROM:+0000
TZOFFSETTO:+0000
TZNAME:UTC
DTSTART:20170101T000000
END:STANDARD
END:VTIMEZONE
BEGIN:VEVENT
DTSTART;TZID=UTC:20180515T080000
DTEND;TZID=UTC:20180517T170000
DTSTAMP:20260422T121411
CREATED:20180122T234530Z
LAST-MODIFIED:20180122T234530Z
UID:1882-1526371200-1526576400@www.venza.io
SUMMARY:Venza Speaking at IHTF International Hotel Technology Forum
DESCRIPTION:Developing Intelligent Hotel Technology Solutions\nWe’re delighted to announce the plans for 2018. We’ll be bringing the show to Mallorca – Spain. We held IHTF in Barcelona just a few years ago and have been looking forward to celebrating our 16th birthday in Spain. \nOver the course of 3 days\, attendees can expect to hear over 50 presenters tackle the most pressing issues facing the industry. We create interactive experiences and delegates can expect to take part in workshops\, debates\, round-tables\, case studies and interviews. The program is split into 2 streams one tackling technology issues\, the other focused on the dynamic area of sales and marketing. \nAlongside a comprehensive learning program\, delegates and suppliers will have an opportunity to take part in a series of pre-scheduled business meetings where we match hoteliers with solution providers. \nDaniel Johnson\, Partner/Co-Founder of Venza will be the opening keynote speaker at this year’s event. \nTitle\nOn the Eve of GDPR Enforcement: What to expect and how to respond \nBrief Description\nThe General Data Protection Regulation made acronyms such as PbD\, DPIA\, and DPO familiar to hospitality professionals worldwide. The attention the regulation has brought on guest privacy rights and data stewardship has already made a sweeping impact on the industry. On the eve of the GDPR’s enforcement\, find out what to expect and how to respond. \nIf you are attending IHTF this year and you would like to meet up with Daniel schedule a meeting.
URL:https://www.venza.io/event/venza-speaking-ihtf-international-hotel-technology-forum/
END:VEVENT
END:VCALENDAR