BEGIN:VCALENDAR
VERSION:2.0
PRODID:-//Venza® - ECPv6.15.17//NONSGML v1.0//EN
CALSCALE:GREGORIAN
METHOD:PUBLISH
X-WR-CALNAME:Venza®
X-ORIGINAL-URL:https://www.venza.io
X-WR-CALDESC:Events for Venza®
REFRESH-INTERVAL;VALUE=DURATION:PT1H
X-Robots-Tag:noindex
X-PUBLISHED-TTL:PT1H
BEGIN:VTIMEZONE
TZID:UTC
BEGIN:STANDARD
TZOFFSETFROM:+0000
TZOFFSETTO:+0000
TZNAME:UTC
DTSTART:20170101T000000
END:STANDARD
END:VTIMEZONE
BEGIN:VEVENT
DTSTART;TZID=UTC:20180619T130000
DTEND;TZID=UTC:20180619T141500
DTSTAMP:20260422T122857
CREATED:20180213T234707Z
LAST-MODIFIED:20180213T234707Z
UID:1963-1529413200-1529417700@www.venza.io
SUMMARY:Venza Speaking at The HFTP Club and Hotel Controllers Conference on GDPR
DESCRIPTION:Hospitality controllers and industry experts gather for two full days of hospitality specific education\, designed to help you focus on current and emerging issues\, best practices and complex challenges. \nDaniel Johnson\, Partner/Co-Founder of Venza will be giving a presentation on GDPR at this year’s conference. \nSession Title: “GDPR: Get Up-to-Speed” \nBrief Description\nThe EU’s General Data Protection Regulation (GDPR) has thrust phrases such as Privacy by Design\, Data Protection Officer (DPO)\, and Binding Corporate Rule (BCR) for Processors into the industry’s vocabulary. This framework has a May 25\, 2018 enforcement date. In addition to serving as a primer for those unfamiliar with the details of this globally significant regulation\, “GDPR: Get Up-to-Speed” will inform attendees on the most recent developments approximately one month into the GDPR’s enforcement. This presentation\, facilitated by a duo of hospitality-industry veterans and HFTP GDPR HDPO Task Force members\, is a do-not-miss GDPR professional briefing.
URL:https://www.venza.io/event/venza-speaking-hftp-club-hotel-controllers-conference-gdpr/
END:VEVENT
END:VCALENDAR