BEGIN:VCALENDAR
VERSION:2.0
PRODID:-//Venza® - ECPv6.15.17//NONSGML v1.0//EN
CALSCALE:GREGORIAN
METHOD:PUBLISH
X-WR-CALNAME:Venza®
X-ORIGINAL-URL:https://www.venza.io
X-WR-CALDESC:Events for Venza®
REFRESH-INTERVAL;VALUE=DURATION:PT1H
X-Robots-Tag:noindex
X-PUBLISHED-TTL:PT1H
BEGIN:VTIMEZONE
TZID:UTC
BEGIN:STANDARD
TZOFFSETFROM:+0000
TZOFFSETTO:+0000
TZNAME:UTC
DTSTART:20170101T000000
END:STANDARD
END:VTIMEZONE
BEGIN:VEVENT
DTSTART;TZID=UTC:20180924T080000
DTEND;TZID=UTC:20180927T170000
DTSTAMP:20260420T060015
CREATED:20180910T215952Z
LAST-MODIFIED:20180910T215952Z
UID:2830-1537776000-1538067600@www.venza.io
SUMMARY:Venza attending The Lodging Conference
DESCRIPTION:The Lodging Conference is one of the top hotel industry events in the world. Over the past 23 years\, tens of thousands of high-powered hotel owners and executives from around the globe have participated. The event has been sold out for the last five years with attendance of 1800+ in 2017. We bring together the hotel industry’s most influential owners\, operators\, presidents\, CEOs and dealmakers to strategize about development\, finance\, franchising\, management\, construction\, design\, and operations. More than just a conference\, the entire event is a THINK TANK where everybody in attendance has the opportunity to join in the conversation\, discuss issues\, and solve problems.
URL:https://www.venza.io/event/venza-attending-the-lodging-conference/
END:VEVENT
END:VCALENDAR