BEGIN:VCALENDAR
VERSION:2.0
PRODID:-//Venza® - ECPv6.15.17//NONSGML v1.0//EN
CALSCALE:GREGORIAN
METHOD:PUBLISH
X-WR-CALNAME:Venza®
X-ORIGINAL-URL:https://www.venza.io
X-WR-CALDESC:Events for Venza®
REFRESH-INTERVAL;VALUE=DURATION:PT1H
X-Robots-Tag:noindex
X-PUBLISHED-TTL:PT1H
BEGIN:VTIMEZONE
TZID:UTC
BEGIN:STANDARD
TZOFFSETFROM:+0000
TZOFFSETTO:+0000
TZNAME:UTC
DTSTART:20170101T000000
END:STANDARD
END:VTIMEZONE
BEGIN:VEVENT
DTSTART;TZID=UTC:20181010T080000
DTEND;TZID=UTC:20181010T170000
DTSTAMP:20260421T080031
CREATED:20180917T185406Z
LAST-MODIFIED:20180917T185406Z
UID:2838-1539158400-1539190800@www.venza.io
SUMMARY:Venza attending LINQ! at Scheltema in Leiden
DESCRIPTION:West Holland’s international business community joined InnovationQuarter’s LINQ\nIn an intimate industrial setting over 80 guests were welcomed at LINQ\, InnovationQuarter’s annual get-together for West Holland’s international business community. The joined interest in innovative technology and a cross-sectoral entrepreneurial spirit\, that’s what linked us all. And meeting new business contacts for future co-operation opportunities was a big plus for many! \nOn the menu\nDuring the interactive breakout sessions\, we showcased innovations of the West Holland-based companies below. Click on the company name for additional information. Feel free to contact or introduce these innovative entrepreneurs to relevant (business) contacts. \n\nLaevo’s innovative Exoskeleton\nInteSpring’s exobuddy for military of the future\nLetsGrow\, a smart platform to analyze cultivation related data\nAvioniCS\, autopilot technology on drones\nIMSystems\, groundbreaking development in speed reducer technology\nIndymo’s submarine drone to monitor water quality\nVSParticle’s nanoparticles\, the building blocks of the future\nDe Kompaan\, craft beertasting of The Hague’s award winning local brewery\n\nLet’s LINQ\nInnovationQuarter’s mission is to strengthen the regional economy in West Holland by supporting and stimulating the innovation potential of this unique delta region. In close co-operation with all major corporations\, educational and research institutions\, and government organisations\, we assist and support foreign companies like yours with their establishment\, business expansion and relocation plans in our region. \nAnd of course\, we maintain in close contact with the 2\,200 international companies that are already established here. Looking for collaborative contacts or in need of assistance? Get in touch with our team and we’ll introduce you to our extensive network.
URL:https://www.venza.io/event/venza-attending-linq-at-scheltema-in-leiden/
CATEGORIES:Events
END:VEVENT
END:VCALENDAR