BEGIN:VCALENDAR
VERSION:2.0
PRODID:-//Venza® - ECPv6.15.17//NONSGML v1.0//EN
CALSCALE:GREGORIAN
METHOD:PUBLISH
X-WR-CALNAME:Venza®
X-ORIGINAL-URL:https://www.venza.io
X-WR-CALDESC:Events for Venza®
REFRESH-INTERVAL;VALUE=DURATION:PT1H
X-Robots-Tag:noindex
X-PUBLISHED-TTL:PT1H
BEGIN:VTIMEZONE
TZID:UTC
BEGIN:STANDARD
TZOFFSETFROM:+0000
TZOFFSETTO:+0000
TZNAME:UTC
DTSTART:20170101T000000
END:STANDARD
END:VTIMEZONE
BEGIN:VEVENT
DTSTART;TZID=UTC:20180619T110000
DTEND;TZID=UTC:20180619T231500
DTSTAMP:20260422T122646
CREATED:20180509T205057Z
LAST-MODIFIED:20180509T205057Z
UID:2589-1529406000-1529450100@www.venza.io
SUMMARY:TechTalk HITEC Houston — Tues.\, June 19
DESCRIPTION:Join Daniel Johnson\, Partner/Co-Founder for a TechTalk on Tuesday\, June 19th at the HFTP Booth: on the HITEC tradeshow floor\, which is located at the end of aisles 1500 and 1600. \nThe session title is “Dear Guest\, I regret to inform you that we’ve suffered a data breach … “. While the probability of confronting a data breach continues to increase\, the repercussions of failing to properly handle them grow in severity. Accountability-based personal data privacy regulations such as the European Union’s General Data Protection Regulation (GDPR) set standards for both data protection best-practices as well as expectations regarding notifications and communications during data security crises. This TechTalk\, facilitated by Venza Partner & EU-office Managing Director\, addresses the when\, why\, how and what to communicate during a data security breach. This is a do-not-miss GDPR primer for hospitality financial and technology professionals.
URL:https://www.venza.io/event/techtalk-hitec-houston-tues-june-19/
END:VEVENT
END:VCALENDAR