BEGIN:VCALENDAR
VERSION:2.0
PRODID:-//Venza® - ECPv6.15.17//NONSGML v1.0//EN
CALSCALE:GREGORIAN
METHOD:PUBLISH
X-WR-CALNAME:Venza®
X-ORIGINAL-URL:https://www.venza.io
X-WR-CALDESC:Events for Venza®
REFRESH-INTERVAL;VALUE=DURATION:PT1H
X-Robots-Tag:noindex
X-PUBLISHED-TTL:PT1H
BEGIN:VTIMEZONE
TZID:UTC
BEGIN:STANDARD
TZOFFSETFROM:+0000
TZOFFSETTO:+0000
TZNAME:UTC
DTSTART:20170101T000000
END:STANDARD
END:VTIMEZONE
BEGIN:VEVENT
DTSTART;TZID=UTC:20180522T100000
DTEND;TZID=UTC:20180522T110000
DTSTAMP:20260424T054049
CREATED:20180505T005101Z
LAST-MODIFIED:20180505T005101Z
UID:2587-1526983200-1526986800@www.venza.io
SUMMARY:GDPR Essentials Webinar - May 22 - 10 am
DESCRIPTION:How does GDPR affect me?  \nWith the impending GDPR going into effect on May 24\, 2018\, you can join Daniel Johnson\, Partner/Co-Founder of Venza to find out how this new regulation will impact the way your organization will do business and handle the PII for European Citizens. \nDESCRIPTION: The coming enforcement of Europe’s data protection law\, the GDPR\, demands that both hoteliers and their information system partners take a hard look at how guest data is processed. Roles determine responsibilities. Responsibilities convey obligations. Failures to meet obligations carry consequences. \nClear guidance\, however\, is not easily accessible for many in the hospitality industry. \nThere are many questions surrounding this new European privacy law. On a daily basis\, the Venza team gets asked “What does the GDPR mean to my … [Mexican Resort / Vegas Casino / Branded Hotels in California / etc.]?” \nWe’ll guide you to the answers you need. You don’t have to confront GDPR alone. Each session \nMay 22\, 2018 10:00 AM EDT \nUse the link below to register for these webinars.
URL:https://www.venza.io/event/gdpr-essentials-webinar-may-22-10-am/
END:VEVENT
END:VCALENDAR