BEGIN:VCALENDAR
VERSION:2.0
PRODID:-//Venza® - ECPv6.15.17//NONSGML v1.0//EN
CALSCALE:GREGORIAN
METHOD:PUBLISH
X-WR-CALNAME:Venza®
X-ORIGINAL-URL:https://www.venza.io
X-WR-CALDESC:Events for Venza®
REFRESH-INTERVAL;VALUE=DURATION:PT1H
X-Robots-Tag:noindex
X-PUBLISHED-TTL:PT1H
BEGIN:VTIMEZONE
TZID:UTC
BEGIN:STANDARD
TZOFFSETFROM:+0000
TZOFFSETTO:+0000
TZNAME:UTC
DTSTART:20160101T000000
END:STANDARD
END:VTIMEZONE
BEGIN:VEVENT
DTSTART;TZID=UTC:20170515T080000
DTEND;TZID=UTC:20170517T170000
DTSTAMP:20260422T164232
CREATED:20170125T203633Z
LAST-MODIFIED:20170125T203633Z
UID:983-1494835200-1495040400@www.venza.io
SUMMARY:BITAC® Independent 2017
DESCRIPTION:The 2017 InnDependent Lodging Executive Summit will be the best version yet. Be a part of what many are calling the hottest trend in the lodging industry. This three day idea exchange will include educational sessions focused on the needs of independent hoteliers and offer plenty of time to network with hoteliers and vendors in the unique and relaxed atmosphere. \nCultivate new relationships and \nstrengthening existing ones while \nenjoying great food and \nbeverages\, all included in \nyour registration. \n  \nBy BITAC \ninfo@bitac.net \n 
URL:https://www.venza.io/event/bitac-independent-2017-2/
END:VEVENT
END:VCALENDAR