BEGIN:VCALENDAR
VERSION:2.0
PRODID:-//Venza® - ECPv6.15.17//NONSGML v1.0//EN
CALSCALE:GREGORIAN
METHOD:PUBLISH
X-WR-CALNAME:Venza®
X-ORIGINAL-URL:https://www.venza.io
X-WR-CALDESC:Events for Venza®
REFRESH-INTERVAL;VALUE=DURATION:PT1H
X-Robots-Tag:noindex
X-PUBLISHED-TTL:PT1H
BEGIN:VTIMEZONE
TZID:UTC
BEGIN:STANDARD
TZOFFSETFROM:+0000
TZOFFSETTO:+0000
TZNAME:UTC
DTSTART:20170101T000000
END:STANDARD
END:VTIMEZONE
BEGIN:VEVENT
DTSTART;TZID=UTC:20181008T080000
DTEND;TZID=UTC:20181012T170000
DTSTAMP:20260422T104314
CREATED:20180924T223801Z
LAST-MODIFIED:20180924T223801Z
UID:2846-1538985600-1539363600@www.venza.io
SUMMARY:Atlanta Cyber Week 2018
DESCRIPTION:October 8 – 12\, 2018\nHighlighting the Pillars of the Region’s Cybersecurity Ecosystem \n\n\n\nMetro Atlanta Chamber of Commerce and Baker Donelson are proud to facilitate the second annual Atlanta Cyber Week. In its first year\, more than 1000 participants from five countries attended one or more of the week’s events. The goal of Atlanta Cyber Week’s public-private collaboration is to provide a broad spectrum of events highlighting the Georgia cybersecurity ecosystem and providing tangible benefit and education for attendees. Atlanta Cyber Week’s events will provide opportunities for meaningful interactions between business\, academia and government to assess and respond to the ever-evolving cyber security landscape and face the challenges it brings.\n\n\nAttending this training: \nAssessing Business Cyber Risk – Simulation for Business Leaders \nAttending this panel: \nCyber Drill – Responding to a Real-Time Cyber Security Breach
URL:https://www.venza.io/event/atlanta-cyber-week-2018/
CATEGORIES:Events
END:VEVENT
END:VCALENDAR